Workbook

Sheet Előlap
A2: Az adatszolgáltatás
A3: MEKH azonosítószáma: | B3: VK_GFT-JH_B-IV
A4: címe: | B4: GFT-Jóváhagyás_Beruházás-Ivóvíz
A5: gyakorisága: | B5: Éves
A6: beszámolási időszak: | B6: 2026-01-01
A7: Tárgyidőszak kezdete | B7: =VALUE(LEFT(B6,4)+1) -> 2027
A8: Tárgyidőszak vége | B8: =VALUE(LEFT(B6,4)+10) -> 2036
A9: teljesítésének határideje: | B9: 2026-10-01
A12: Az adatszolgáltató
A13: neve: | B13: BAKONYKARSZT Zrt.
A14: címe: | B14: 8200 Veszprém, Pápai út 41.
A15: MEKH nyilvántartási kódja: | B15: 11338024

Sheet Összesítő
N1: H/1 -- Forrás megnevezése (I. ütem) | AA1: H/2 -- Forrás megnevezése (II. ütem)
A2: Sorszám | B2: Víziközmű-rendszer megnevezése | C2: Víziközmű-rendszer hivatali kódja | D2: ISA | E2: Az érintett ellátásért felelős(ök) megnevezése | F2: Ellátási terület | G2: Ellenőrzés | I2: Tervezett nettó költség [eFt] | J2: A beruházás tervezett nettó költsége a tervezési időszak ütemezése szerint [eFt] - I. ütem | K2: A beruházás tervezett nettó költsége a tervezési időszak ütemezése szerint [eFt] - II. ütem | L2: Az EM rendelet 2. melléklet terhére elszámolni tervezett költség | N2: Használati díj [eFt] | O2: ÉCS [eFt] | P2: Közműfejlesztési hozzájárulás [eFt] | Q2: Egyéb saját forrás [eFt] | R2: Díj [eFt] | S2: VFEA - EM rendelet 1. melléklet | T2: Egyéb állami támogatás [eFt] | U2: Önkormányzati támogatás [eFt] | V2: EU-s támogatás [eFt] | W2: Egyéb támogatás [eFt] | X2: Banki hitel, kötvénykibocsátás [eFt] | Y2: Összesítés [eFt] | AA2: Használati díj [eFt] | AB2: ÉCS [eFt] | AC2: Közműfejlesztési hozzájárulás [eFt] | AD2: Egyéb saját forrás [eFt] | AE2: Díj [eFt] | AF2: VFEA - EM rendelet 1. melléklet | AG2: Egyéb állami támogatás [eFt] | AH2: Önkormányzati támogatás [eFt] | AI2: EU-s támogatás [eFt] | AJ2: Egyéb támogatás [eFt] | AK2: Banki hitel, kötvénykibocsátás [eFt] | AL2: Összesítés [eFt] | AS2: Hány feladat van a rendszeren | AT2: Helyes kitöltések száma | AU2: VAN rövidtávú terv? | AV2: VAN hosszútávú terv?
B3: Víziközmű-rendszer megnevezése | C3: Víziközmű-rendszer hivatali kódja | D3: ISA | E3: Az érintett ellátásért felelős(ök) megnevezése | F3: Ellátási terület | I3: =SUM(I$4:I$13052) -> 1000 | J3: =SUM(J$4:J$13052) -> 0 | K3: =SUM(K$4:K$13052) -> 1000 | L3: =SUM(L$4:L$13052) -> 0 | N3: =SUM(N$4:N$3052) -> 0 | O3: =SUM(O$4:O$3052) -> 0 | P3: =SUM(P$4:P$3052) -> 0 | Q3: =SUM(Q$4:Q$3052) -> 0 | R3: =SUM(R$4:R$3052) -> 0 | S3: =SUM(S$4:S$3052) -> 0 | T3: =SUM(T$4:T$3052) -> 0 | U3: =SUM(U$4:U$3052) -> 0 | ... Y3: =SUM(Y$4:Y$3052) -> 0 | AA3: =SUM(AA$4:AA$3052) -> 0 | AB3: =SUM(AB$4:AB$3052) -> 0 | AC3: =SUM(AC$4:AC$3052) -> 0 | AD3: =SUM(AD$4:AD$3052) -> 0 | AE3: =SUM(AE$4:AE$3052) -> 0 | AF3: =SUM(AF$4:AF$3052) -> 0 | AG3: =SUM(AG$4:AG$3052) -> 0 | AH3: =SUM(AH$4:AH$3052) -> 0 | ... AL3: =SUM(AL$4:AL$3052) -> 0 | AR3: RÖGZÍTVE? | AS3: =SUM(AS$4:AS$3052) -> 2 | AT3: =SUM(AT$4:AT$3052) -> 2 | AU3: új | AV3: új
A4: 354 | B4: Hegyesd ivóvízellátó víziközmű- rendszer | C4: 11-02422-1-001-00-10 | D4: 1846 | E4: Magyar Állam | F4: Hegyesd | G4: =IF(ISNA($AR4),"Nincs rögzítve!",IF(AU4=0,"Hiányzik a rövidtávú terv!",IF(AV4=0,"Hiányzik a hosszútávú terv!",IF(AS4=AT4,"Kitöltés rendben!",IF(AS4<>AT4,"Kitöltési hiba!","Kitöltési hiba!"))))) -> Nincs rögzítve! | I4: =J4+K4 -> 0 | J4: =SUMIF(B_IV_1A!$F:$F,$C4,B_IV_1A!$N:$N) -> 0 | K4: =SUMIF(B_IV_1A!$F:$F,$C4,B_IV_1A!$O:$O) -> 0 | L4: =SUMIF(B_IV_1A!$F:$F,$C4,B_IV_1A!$P:$P) -> 0 | N4: =SUMIF(B_IV_1A!$F:$F,$C4,B_IV_1A!S:S) -> 0 | O4: =SUMIF(B_IV_1A!$F:$F,$C4,B_IV_1A!T:T) -> 0 | P4: =SUMIF(B_IV_1A!$F:$F,$C4,B_IV_1A!U:U) -> 0 | Q4: =SUMIF(B_IV_1A!$F:$F,$C4,B_IV_1A!V:V) -> 0 | R4: =SUMIF(B_IV_1A!$F:$F,$C4,B_IV_1A!W:W) -> 0 | S4: =SUMIF(B_IV_1A!$F:$F,$C4,B_IV_1A!X:X) -> 0 | T4: =SUMIF(B_IV_1A!$F:$F,$C4,B_IV_1A!Y:Y) -> 0 | U4: =SUMIF(B_IV_1A!$F:$F,$C4,B_IV_1A!Z:Z) -> 0 | V4: =SUMIF(B_IV_1A!$F:$F,$C4,B_IV_1A!AA:AA) -> 0 | W4: =SUMIF(B_IV_1A!$F:$F,$C4,B_IV_1A!AB:AB) -> 0 | X4: =SUMIF(B_IV_1A!$F:$F,$C4,B_IV_1A!AC:AC) -> 0 | Y4: =SUM(N4:X4) -> 0 | AA4: =SUMIF(B_IV_1A!$F:$F,$C4,B_IV_1A!AG:AG) -> 0 | AB4: =SUMIF(B_IV_1A!$F:$F,$C4,B_IV_1A!AH:AH) -> 0 | AC4: =SUMIF(B_IV_1A!$F:$F,$C4,B_IV_1A!AI:AI) -> 0 | AD4: =SUMIF(B_IV_1A!$F:$F,$C4,B_IV_1A!AJ:AJ) -> 0 | AE4: =SUMIF(B_IV_1A!$F:$F,$C4,B_IV_1A!AK:AK) -> 0 | AF4: =SUMIF(B_IV_1A!$F:$F,$C4,B_IV_1A!AL:AL) -> 0 | AG4: =SUMIF(B_IV_1A!$F:$F,$C4,B_IV_1A!AM:AM) -> 0 | AH4: =SUMIF(B_IV_1A!$F:$F,$C4,B_IV_1A!AN:AN) -> 0 | AI4: =SUMIF(B_IV_1A!$F:$F,$C4,B_IV_1A!AO:AO) -> 0 | AJ4: =SUMIF(B_IV_1A!$F:$F,$C4,B_IV_1A!AP:AP) -> 0 | AK4: =SUMIF(B_IV_1A!$F:$F,$C4,B_IV_1A!AQ:AQ) -> 0 | AL4: =SUM(AA4:AK4) -> 0 | AR4: =INDEX(B_IV_1A!$G:$G,MATCH($C4,B_IV_1A!$F:$F,0)) -> #N/A | AS4: =COUNTIF(B_IV_1A!$AZ$3:$AZ$1499,$D4) -> 0 | AT4: =SUMIF(B_IV_1A!$AZ$3:$AZ$1499,$D4,B_IV_1A!$CH$3:$CH$1499) -> 0 | AU4: =SUMIF(B_IV_1A!$AZ:$AZ,$D4,B_IV_1A!$CI:$CI) -> 0 | AV4: =SUMIF(B_IV_1A!$AZ:$AZ,$D4,B_IV_1A!$CI:$CI) -> 0
A5: 355 | B5: Balatoncsicsó ivóvízellátó víziközmű- rendszer | C5: 11-03072-1-007-00-04 | D5: 1847 | E5: Magyar Állam | F5: Balatoncsicsó, Dörgicse, Mencshely, Óbudavár, Szentantalfa, Szentjakabfa, Tagyon | G5: =IF(ISNA($AR5),"Nincs rögzítve!",IF(AU5=0,"Hiányzik a rövidtávú terv!",IF(AV5=0,"Hiányzik a hosszútávú terv!",IF(AS5=AT5,"Kitöltés rendben!",IF(AS5<>AT5,"Kitöltési hiba!","Kitöltési hiba!"))))) -> Nincs rögzítve! | I5: =J5+K5 -> 0 | J5: =SUMIF(B_IV_1A!$F:$F,$C5,B_IV_1A!$N:$N) -> 0 | K5: =SUMIF(B_IV_1A!$F:$F,$C5,B_IV_1A!$O:$O) -> 0 | L5: =SUMIF(B_IV_1A!$F:$F,$C5,B_IV_1A!$P:$P) -> 0 | N5: =SUMIF(B_IV_1A!$F:$F,$C5,B_IV_1A!S:S) -> 0 | O5: =SUMIF(B_IV_1A!$F:$F,$C5,B_IV_1A!T:T) -> 0 | P5: =SUMIF(B_IV_1A!$F:$F,$C5,B_IV_1A!U:U) -> 0 | Q5: =SUMIF(B_IV_1A!$F:$F,$C5,B_IV_1A!V:V) -> 0 | R5: =SUMIF(B_IV_1A!$F:$F,$C5,B_IV_1A!W:W) -> 0 | S5: =SUMIF(B_IV_1A!$F:$F,$C5,B_IV_1A!X:X) -> 0 | T5: =SUMIF(B_IV_1A!$F:$F,$C5,B_IV_1A!Y:Y) -> 0 | U5: =SUMIF(B_IV_1A!$F:$F,$C5,B_IV_1A!Z:Z) -> 0 | V5: =SUMIF(B_IV_1A!$F:$F,$C5,B_IV_1A!AA:AA) -> 0 | W5: =SUMIF(B_IV_1A!$F:$F,$C5,B_IV_1A!AB:AB) -> 0 | X5: =SUMIF(B_IV_1A!$F:$F,$C5,B_IV_1A!AC:AC) -> 0 | Y5: =SUM(N5:X5) -> 0 | AA5: =SUMIF(B_IV_1A!$F:$F,$C5,B_IV_1A!AG:AG) -> 0 | AB5: =SUMIF(B_IV_1A!$F:$F,$C5,B_IV_1A!AH:AH) -> 0 | AC5: =SUMIF(B_IV_1A!$F:$F,$C5,B_IV_1A!AI:AI) -> 0 | AD5: =SUMIF(B_IV_1A!$F:$F,$C5,B_IV_1A!AJ:AJ) -> 0 | AE5: =SUMIF(B_IV_1A!$F:$F,$C5,B_IV_1A!AK:AK) -> 0 | AF5: =SUMIF(B_IV_1A!$F:$F,$C5,B_IV_1A!AL:AL) -> 0 | AG5: =SUMIF(B_IV_1A!$F:$F,$C5,B_IV_1A!AM:AM) -> 0 | AH5: =SUMIF(B_IV_1A!$F:$F,$C5,B_IV_1A!AN:AN) -> 0 | AI5: =SUMIF(B_IV_1A!$F:$F,$C5,B_IV_1A!AO:AO) -> 0 | AJ5: =SUMIF(B_IV_1A!$F:$F,$C5,B_IV_1A!AP:AP) -> 0 | AK5: =SUMIF(B_IV_1A!$F:$F,$C5,B_IV_1A!AQ:AQ) -> 0 | AL5: =SUM(AA5:AK5) -> 0 | AR5: =INDEX(B_IV_1A!$G:$G,MATCH($C5,B_IV_1A!$F:$F,0)) -> #N/A | AS5: =COUNTIF(B_IV_1A!$AZ$3:$AZ$1499,$D5) -> 0 | AT5: =SUMIF(B_IV_1A!$AZ$3:$AZ$1499,$D5,B_IV_1A!$CH$3:$CH$1499) -> 0 | AU5: =SUMIF(B_IV_1A!$AZ:$AZ,$D5,B_IV_1A!$CI:$CI) -> 0 | AV5: =SUMIF(B_IV_1A!$AZ:$AZ,$D5,B_IV_1A!$CI:$CI) -> 0
A6: 356 | B6: Sóly ivóvízellátó víziközmű- rendszer | C6: 11-03601-1-001-00-15 | D6: 1848 | E6: Magyar Állam | F6: Sóly | G6: =IF(ISNA($AR6),"Nincs rögzítve!",IF(AU6=0,"Hiányzik a rövidtávú terv!",IF(AV6=0,"Hiányzik a hosszútávú terv!",IF(AS6=AT6,"Kitöltés rendben!",IF(AS6<>AT6,"Kitöltési hiba!","Kitöltési hiba!"))))) -> Nincs rögzítve! | I6: =J6+K6 -> 0 | J6: =SUMIF(B_IV_1A!$F:$F,$C6,B_IV_1A!$N:$N) -> 0 | K6: =SUMIF(B_IV_1A!$F:$F,$C6,B_IV_1A!$O:$O) -> 0 | L6: =SUMIF(B_IV_1A!$F:$F,$C6,B_IV_1A!$P:$P) -> 0 | N6: =SUMIF(B_IV_1A!$F:$F,$C6,B_IV_1A!S:S) -> 0 | O6: =SUMIF(B_IV_1A!$F:$F,$C6,B_IV_1A!T:T) -> 0 | P6: =SUMIF(B_IV_1A!$F:$F,$C6,B_IV_1A!U:U) -> 0 | Q6: =SUMIF(B_IV_1A!$F:$F,$C6,B_IV_1A!V:V) -> 0 | R6: =SUMIF(B_IV_1A!$F:$F,$C6,B_IV_1A!W:W) -> 0 | S6: =SUMIF(B_IV_1A!$F:$F,$C6,B_IV_1A!X:X) -> 0 | T6: =SUMIF(B_IV_1A!$F:$F,$C6,B_IV_1A!Y:Y) -> 0 | U6: =SUMIF(B_IV_1A!$F:$F,$C6,B_IV_1A!Z:Z) -> 0 | V6: =SUMIF(B_IV_1A!$F:$F,$C6,B_IV_1A!AA:AA) -> 0 | W6: =SUMIF(B_IV_1A!$F:$F,$C6,B_IV_1A!AB:AB) -> 0 | X6: =SUMIF(B_IV_1A!$F:$F,$C6,B_IV_1A!AC:AC) -> 0 | Y6: =SUM(N6:X6) -> 0 | AA6: =SUMIF(B_IV_1A!$F:$F,$C6,B_IV_1A!AG:AG) -> 0 | AB6: =SUMIF(B_IV_1A!$F:$F,$C6,B_IV_1A!AH:AH) -> 0 | AC6: =SUMIF(B_IV_1A!$F:$F,$C6,B_IV_1A!AI:AI) -> 0 | AD6: =SUMIF(B_IV_1A!$F:$F,$C6,B_IV_1A!AJ:AJ) -> 0 | AE6: =SUMIF(B_IV_1A!$F:$F,$C6,B_IV_1A!AK:AK) -> 0 | AF6: =SUMIF(B_IV_1A!$F:$F,$C6,B_IV_1A!AL:AL) -> 0 | AG6: =SUMIF(B_IV_1A!$F:$F,$C6,B_IV_1A!AM:AM) -> 0 | AH6: =SUMIF(B_IV_1A!$F:$F,$C6,B_IV_1A!AN:AN) -> 0 | AI6: =SUMIF(B_IV_1A!$F:$F,$C6,B_IV_1A!AO:AO) -> 0 | AJ6: =SUMIF(B_IV_1A!$F:$F,$C6,B_IV_1A!AP:AP) -> 0 | AK6: =SUMIF(B_IV_1A!$F:$F,$C6,B_IV_1A!AQ:AQ) -> 0 | AL6: =SUM(AA6:AK6) -> 0 | AR6: =INDEX(B_IV_1A!$G:$G,MATCH($C6,B_IV_1A!$F:$F,0)) -> #N/A | AS6: =COUNTIF(B_IV_1A!$AZ$3:$AZ$1499,$D6) -> 0 | AT6: =SUMIF(B_IV_1A!$AZ$3:$AZ$1499,$D6,B_IV_1A!$CH$3:$CH$1499) -> 0 | AU6: =SUMIF(B_IV_1A!$AZ:$AZ,$D6,B_IV_1A!$CI:$CI) -> 0 | AV6: =SUMIF(B_IV_1A!$AZ:$AZ,$D6,B_IV_1A!$CI:$CI) -> 0
A7: 358 | B7: Litér ivóvízellátó víziközmű- rendszer | C7: 11-04552-1-001-00-15 | D7: 1850 | E7: Magyar Állam | F7: Litér | G7: =IF(ISNA($AR7),"Nincs rögzítve!",IF(AU7=0,"Hiányzik a rövidtávú terv!",IF(AV7=0,"Hiányzik a hosszútávú terv!",IF(AS7=AT7,"Kitöltés rendben!",IF(AS7<>AT7,"Kitöltési hiba!","Kitöltési hiba!"))))) -> Nincs rögzítve! | I7: =J7+K7 -> 0 | J7: =SUMIF(B_IV_1A!$F:$F,$C7,B_IV_1A!$N:$N) -> 0 | K7: =SUMIF(B_IV_1A!$F:$F,$C7,B_IV_1A!$O:$O) -> 0 | L7: =SUMIF(B_IV_1A!$F:$F,$C7,B_IV_1A!$P:$P) -> 0 | N7: =SUMIF(B_IV_1A!$F:$F,$C7,B_IV_1A!S:S) -> 0 | O7: =SUMIF(B_IV_1A!$F:$F,$C7,B_IV_1A!T:T) -> 0 | P7: =SUMIF(B_IV_1A!$F:$F,$C7,B_IV_1A!U:U) -> 0 | Q7: =SUMIF(B_IV_1A!$F:$F,$C7,B_IV_1A!V:V) -> 0 | R7: =SUMIF(B_IV_1A!$F:$F,$C7,B_IV_1A!W:W) -> 0 | S7: =SUMIF(B_IV_1A!$F:$F,$C7,B_IV_1A!X:X) -> 0 | T7: =SUMIF(B_IV_1A!$F:$F,$C7,B_IV_1A!Y:Y) -> 0 | U7: =SUMIF(B_IV_1A!$F:$F,$C7,B_IV_1A!Z:Z) -> 0 | V7: =SUMIF(B_IV_1A!$F:$F,$C7,B_IV_1A!AA:AA) -> 0 | W7: =SUMIF(B_IV_1A!$F:$F,$C7,B_IV_1A!AB:AB) -> 0 | X7: =SUMIF(B_IV_1A!$F:$F,$C7,B_IV_1A!AC:AC) -> 0 | Y7: =SUM(N7:X7) -> 0 | AA7: =SUMIF(B_IV_1A!$F:$F,$C7,B_IV_1A!AG:AG) -> 0 | AB7: =SUMIF(B_IV_1A!$F:$F,$C7,B_IV_1A!AH:AH) -> 0 | AC7: =SUMIF(B_IV_1A!$F:$F,$C7,B_IV_1A!AI:AI) -> 0 | AD7: =SUMIF(B_IV_1A!$F:$F,$C7,B_IV_1A!AJ:AJ) -> 0 | AE7: =SUMIF(B_IV_1A!$F:$F,$C7,B_IV_1A!AK:AK) -> 0 | AF7: =SUMIF(B_IV_1A!$F:$F,$C7,B_IV_1A!AL:AL) -> 0 | AG7: =SUMIF(B_IV_1A!$F:$F,$C7,B_IV_1A!AM:AM) -> 0 | AH7: =SUMIF(B_IV_1A!$F:$F,$C7,B_IV_1A!AN:AN) -> 0 | AI7: =SUMIF(B_IV_1A!$F:$F,$C7,B_IV_1A!AO:AO) -> 0 | AJ7: =SUMIF(B_IV_1A!$F:$F,$C7,B_IV_1A!AP:AP) -> 0 | AK7: =SUMIF(B_IV_1A!$F:$F,$C7,B_IV_1A!AQ:AQ) -> 0 | AL7: =SUM(AA7:AK7) -> 0 | AR7: =INDEX(B_IV_1A!$G:$G,MATCH($C7,B_IV_1A!$F:$F,0)) -> #N/A | AS7: =COUNTIF(B_IV_1A!$AZ$3:$AZ$1499,$D7) -> 0 | AT7: =SUMIF(B_IV_1A!$AZ$3:$AZ$1499,$D7,B_IV_1A!$CH$3:$CH$1499) -> 0 | AU7: =SUMIF(B_IV_1A!$AZ:$AZ,$D7,B_IV_1A!$CI:$CI) -> 0 | AV7: =SUMIF(B_IV_1A!$AZ:$AZ,$D7,B_IV_1A!$CI:$CI) -> 0
A8: 359 | B8: Nemesgörzsöny ivóvízellátó víziközmű- rendszer | C8: 11-05652-1-002-00-04 | D8: 1851 | E8: Magyar Állam | F8: Nagyacsád, Nemesgörzsöny | G8: =IF(ISNA($AR8),"Nincs rögzítve!",IF(AU8=0,"Hiányzik a rövidtávú terv!",IF(AV8=0,"Hiányzik a hosszútávú terv!",IF(AS8=AT8,"Kitöltés rendben!",IF(AS8<>AT8,"Kitöltési hiba!","Kitöltési hiba!"))))) -> Nincs rögzítve! | I8: =J8+K8 -> 0 | J8: =SUMIF(B_IV_1A!$F:$F,$C8,B_IV_1A!$N:$N) -> 0 | K8: =SUMIF(B_IV_1A!$F:$F,$C8,B_IV_1A!$O:$O) -> 0 | L8: =SUMIF(B_IV_1A!$F:$F,$C8,B_IV_1A!$P:$P) -> 0 | N8: =SUMIF(B_IV_1A!$F:$F,$C8,B_IV_1A!S:S) -> 0 | O8: =SUMIF(B_IV_1A!$F:$F,$C8,B_IV_1A!T:T) -> 0 | P8: =SUMIF(B_IV_1A!$F:$F,$C8,B_IV_1A!U:U) -> 0 | Q8: =SUMIF(B_IV_1A!$F:$F,$C8,B_IV_1A!V:V) -> 0 | R8: =SUMIF(B_IV_1A!$F:$F,$C8,B_IV_1A!W:W) -> 0 | S8: =SUMIF(B_IV_1A!$F:$F,$C8,B_IV_1A!X:X) -> 0 | T8: =SUMIF(B_IV_1A!$F:$F,$C8,B_IV_1A!Y:Y) -> 0 | U8: =SUMIF(B_IV_1A!$F:$F,$C8,B_IV_1A!Z:Z) -> 0 | V8: =SUMIF(B_IV_1A!$F:$F,$C8,B_IV_1A!AA:AA) -> 0 | W8: =SUMIF(B_IV_1A!$F:$F,$C8,B_IV_1A!AB:AB) -> 0 | X8: =SUMIF(B_IV_1A!$F:$F,$C8,B_IV_1A!AC:AC) -> 0 | Y8: =SUM(N8:X8) -> 0 | AA8: =SUMIF(B_IV_1A!$F:$F,$C8,B_IV_1A!AG:AG) -> 0 | AB8: =SUMIF(B_IV_1A!$F:$F,$C8,B_IV_1A!AH:AH) -> 0 | AC8: =SUMIF(B_IV_1A!$F:$F,$C8,B_IV_1A!AI:AI) -> 0 | AD8: =SUMIF(B_IV_1A!$F:$F,$C8,B_IV_1A!AJ:AJ) -> 0 | AE8: =SUMIF(B_IV_1A!$F:$F,$C8,B_IV_1A!AK:AK) -> 0 | AF8: =SUMIF(B_IV_1A!$F:$F,$C8,B_IV_1A!AL:AL) -> 0 | AG8: =SUMIF(B_IV_1A!$F:$F,$C8,B_IV_1A!AM:AM) -> 0 | AH8: =SUMIF(B_IV_1A!$F:$F,$C8,B_IV_1A!AN:AN) -> 0 | AI8: =SUMIF(B_IV_1A!$F:$F,$C8,B_IV_1A!AO:AO) -> 0 | AJ8: =SUMIF(B_IV_1A!$F:$F,$C8,B_IV_1A!AP:AP) -> 0 | AK8: =SUMIF(B_IV_1A!$F:$F,$C8,B_IV_1A!AQ:AQ) -> 0 | AL8: =SUM(AA8:AK8) -> 0 | AR8: =INDEX(B_IV_1A!$G:$G,MATCH($C8,B_IV_1A!$F:$F,0)) -> #N/A | AS8: =COUNTIF(B_IV_1A!$AZ$3:$AZ$1499,$D8) -> 0 | AT8: =SUMIF(B_IV_1A!$AZ$3:$AZ$1499,$D8,B_IV_1A!$CH$3:$CH$1499) -> 0 | AU8: =SUMIF(B_IV_1A!$AZ:$AZ,$D8,B_IV_1A!$CI:$CI) -> 0 | AV8: =SUMIF(B_IV_1A!$AZ:$AZ,$D8,B_IV_1A!$CI:$CI) -> 0
A9: 360 | B9: Ajka ivóvízellátó víziközmű- rendszer | C9: 11-06673-1-003-01-10 | D9: 1852 | E9: Magyar Állam | F9: Ajka, Kislőd, Magyarpolány | G9: =IF(ISNA($AR9),"Nincs rögzítve!",IF(AU9=0,"Hiányzik a rövidtávú terv!",IF(AV9=0,"Hiányzik a hosszútávú terv!",IF(AS9=AT9,"Kitöltés rendben!",IF(AS9<>AT9,"Kitöltési hiba!","Kitöltési hiba!"))))) -> Nincs rögzítve! | I9: =J9+K9 -> 0 | J9: =SUMIF(B_IV_1A!$F:$F,$C9,B_IV_1A!$N:$N) -> 0 | K9: =SUMIF(B_IV_1A!$F:$F,$C9,B_IV_1A!$O:$O) -> 0 | L9: =SUMIF(B_IV_1A!$F:$F,$C9,B_IV_1A!$P:$P) -> 0 | N9: =SUMIF(B_IV_1A!$F:$F,$C9,B_IV_1A!S:S) -> 0 | O9: =SUMIF(B_IV_1A!$F:$F,$C9,B_IV_1A!T:T) -> 0 | P9: =SUMIF(B_IV_1A!$F:$F,$C9,B_IV_1A!U:U) -> 0 | Q9: =SUMIF(B_IV_1A!$F:$F,$C9,B_IV_1A!V:V) -> 0 | R9: =SUMIF(B_IV_1A!$F:$F,$C9,B_IV_1A!W:W) -> 0 | S9: =SUMIF(B_IV_1A!$F:$F,$C9,B_IV_1A!X:X) -> 0 | T9: =SUMIF(B_IV_1A!$F:$F,$C9,B_IV_1A!Y:Y) -> 0 | U9: =SUMIF(B_IV_1A!$F:$F,$C9,B_IV_1A!Z:Z) -> 0 | V9: =SUMIF(B_IV_1A!$F:$F,$C9,B_IV_1A!AA:AA) -> 0 | W9: =SUMIF(B_IV_1A!$F:$F,$C9,B_IV_1A!AB:AB) -> 0 | X9: =SUMIF(B_IV_1A!$F:$F,$C9,B_IV_1A!AC:AC) -> 0 | Y9: =SUM(N9:X9) -> 0 | AA9: =SUMIF(B_IV_1A!$F:$F,$C9,B_IV_1A!AG:AG) -> 0 | AB9: =SUMIF(B_IV_1A!$F:$F,$C9,B_IV_1A!AH:AH) -> 0 | AC9: =SUMIF(B_IV_1A!$F:$F,$C9,B_IV_1A!AI:AI) -> 0 | AD9: =SUMIF(B_IV_1A!$F:$F,$C9,B_IV_1A!AJ:AJ) -> 0 | AE9: =SUMIF(B_IV_1A!$F:$F,$C9,B_IV_1A!AK:AK) -> 0 | AF9: =SUMIF(B_IV_1A!$F:$F,$C9,B_IV_1A!AL:AL) -> 0 | AG9: =SUMIF(B_IV_1A!$F:$F,$C9,B_IV_1A!AM:AM) -> 0 | AH9: =SUMIF(B_IV_1A!$F:$F,$C9,B_IV_1A!AN:AN) -> 0 | AI9: =SUMIF(B_IV_1A!$F:$F,$C9,B_IV_1A!AO:AO) -> 0 | AJ9: =SUMIF(B_IV_1A!$F:$F,$C9,B_IV_1A!AP:AP) -> 0 | AK9: =SUMIF(B_IV_1A!$F:$F,$C9,B_IV_1A!AQ:AQ) -> 0 | AL9: =SUM(AA9:AK9) -> 0 | AR9: =INDEX(B_IV_1A!$G:$G,MATCH($C9,B_IV_1A!$F:$F,0)) -> #N/A | AS9: =COUNTIF(B_IV_1A!$AZ$3:$AZ$1499,$D9) -> 0 | AT9: =SUMIF(B_IV_1A!$AZ$3:$AZ$1499,$D9,B_IV_1A!$CH$3:$CH$1499) -> 0 | AU9: =SUMIF(B_IV_1A!$AZ:$AZ,$D9,B_IV_1A!$CI:$CI) -> 0 | AV9: =SUMIF(B_IV_1A!$AZ:$AZ,$D9,B_IV_1A!$CI:$CI) -> 0
A10: 361 | B10: Városlőd ivóvízellátó víziközmű- rendszer | C10: 11-07065-1-001-00-13 | D10: 1853 | E10: Magyar Állam | F10: Városlőd | G10: =IF(ISNA($AR10),"Nincs rögzítve!",IF(AU10=0,"Hiányzik a rövidtávú terv!",IF(AV10=0,"Hiányzik a hosszútávú terv!",IF(AS10=AT10,"Kitöltés rendben!",IF(AS10<>AT10,"Kitöltési hiba!","Kitöltési hiba!"))))) -> Nincs rögzítve! | I10: =J10+K10 -> 0 | J10: =SUMIF(B_IV_1A!$F:$F,$C10,B_IV_1A!$N:$N) -> 0 | K10: =SUMIF(B_IV_1A!$F:$F,$C10,B_IV_1A!$O:$O) -> 0 | L10: =SUMIF(B_IV_1A!$F:$F,$C10,B_IV_1A!$P:$P) -> 0 | N10: =SUMIF(B_IV_1A!$F:$F,$C10,B_IV_1A!S:S) -> 0 | O10: =SUMIF(B_IV_1A!$F:$F,$C10,B_IV_1A!T:T) -> 0 | P10: =SUMIF(B_IV_1A!$F:$F,$C10,B_IV_1A!U:U) -> 0 | Q10: =SUMIF(B_IV_1A!$F:$F,$C10,B_IV_1A!V:V) -> 0 | R10: =SUMIF(B_IV_1A!$F:$F,$C10,B_IV_1A!W:W) -> 0 | S10: =SUMIF(B_IV_1A!$F:$F,$C10,B_IV_1A!X:X) -> 0 | T10: =SUMIF(B_IV_1A!$F:$F,$C10,B_IV_1A!Y:Y) -> 0 | U10: =SUMIF(B_IV_1A!$F:$F,$C10,B_IV_1A!Z:Z) -> 0 | V10: =SUMIF(B_IV_1A!$F:$F,$C10,B_IV_1A!AA:AA) -> 0 | W10: =SUMIF(B_IV_1A!$F:$F,$C10,B_IV_1A!AB:AB) -> 0 | X10: =SUMIF(B_IV_1A!$F:$F,$C10,B_IV_1A!AC:AC) -> 0 | Y10: =SUM(N10:X10) -> 0 | AA10: =SUMIF(B_IV_1A!$F:$F,$C10,B_IV_1A!AG:AG) -> 0 | AB10: =SUMIF(B_IV_1A!$F:$F,$C10,B_IV_1A!AH:AH) -> 0 | AC10: =SUMIF(B_IV_1A!$F:$F,$C10,B_IV_1A!AI:AI) -> 0 | AD10: =SUMIF(B_IV_1A!$F:$F,$C10,B_IV_1A!AJ:AJ) -> 0 | AE10: =SUMIF(B_IV_1A!$F:$F,$C10,B_IV_1A!AK:AK) -> 0 | AF10: =SUMIF(B_IV_1A!$F:$F,$C10,B_IV_1A!AL:AL) -> 0 | AG10: =SUMIF(B_IV_1A!$F:$F,$C10,B_IV_1A!AM:AM) -> 0 | AH10: =SUMIF(B_IV_1A!$F:$F,$C10,B_IV_1A!AN:AN) -> 0 | AI10: =SUMIF(B_IV_1A!$F:$F,$C10,B_IV_1A!AO:AO) -> 0 | AJ10: =SUMIF(B_IV_1A!$F:$F,$C10,B_IV_1A!AP:AP) -> 0 | AK10: =SUMIF(B_IV_1A!$F:$F,$C10,B_IV_1A!AQ:AQ) -> 0 | AL10: =SUM(AA10:AK10) -> 0 | AR10: =INDEX(B_IV_1A!$G:$G,MATCH($C10,B_IV_1A!$F:$F,0)) -> #N/A | AS10: =COUNTIF(B_IV_1A!$AZ$3:$AZ$1499,$D10) -> 0 | AT10: =SUMIF(B_IV_1A!$AZ$3:$AZ$1499,$D10,B_IV_1A!$CH$3:$CH$1499) -> 0 | AU10: =SUMIF(B_IV_1A!$AZ:$AZ,$D10,B_IV_1A!$CI:$CI) -> 0 | AV10: =SUMIF(B_IV_1A!$AZ:$AZ,$D10,B_IV_1A!$CI:$CI) -> 0
A11: 362 | B11: Szentbékkálla ivóvízellátó víziközmű- rendszer | C11: 11-07092-1-002-00-02 | D11: 1854 | E11: Magyar Állam | F11: Mindszentkálla, Szentbékkálla | G11: =IF(ISNA($AR11),"Nincs rögzítve!",IF(AU11=0,"Hiányzik a rövidtávú terv!",IF(AV11=0,"Hiányzik a hosszútávú terv!",IF(AS11=AT11,"Kitöltés rendben!",IF(AS11<>AT11,"Kitöltési hiba!","Kitöltési hiba!"))))) -> Nincs rögzítve! | I11: =J11+K11 -> 0 | J11: =SUMIF(B_IV_1A!$F:$F,$C11,B_IV_1A!$N:$N) -> 0 | K11: =SUMIF(B_IV_1A!$F:$F,$C11,B_IV_1A!$O:$O) -> 0 | L11: =SUMIF(B_IV_1A!$F:$F,$C11,B_IV_1A!$P:$P) -> 0 | N11: =SUMIF(B_IV_1A!$F:$F,$C11,B_IV_1A!S:S) -> 0 | O11: =SUMIF(B_IV_1A!$F:$F,$C11,B_IV_1A!T:T) -> 0 | P11: =SUMIF(B_IV_1A!$F:$F,$C11,B_IV_1A!U:U) -> 0 | Q11: =SUMIF(B_IV_1A!$F:$F,$C11,B_IV_1A!V:V) -> 0 | R11: =SUMIF(B_IV_1A!$F:$F,$C11,B_IV_1A!W:W) -> 0 | S11: =SUMIF(B_IV_1A!$F:$F,$C11,B_IV_1A!X:X) -> 0 | T11: =SUMIF(B_IV_1A!$F:$F,$C11,B_IV_1A!Y:Y) -> 0 | U11: =SUMIF(B_IV_1A!$F:$F,$C11,B_IV_1A!Z:Z) -> 0 | V11: =SUMIF(B_IV_1A!$F:$F,$C11,B_IV_1A!AA:AA) -> 0 | W11: =SUMIF(B_IV_1A!$F:$F,$C11,B_IV_1A!AB:AB) -> 0 | X11: =SUMIF(B_IV_1A!$F:$F,$C11,B_IV_1A!AC:AC) -> 0 | Y11: =SUM(N11:X11) -> 0 | AA11: =SUMIF(B_IV_1A!$F:$F,$C11,B_IV_1A!AG:AG) -> 0 | AB11: =SUMIF(B_IV_1A!$F:$F,$C11,B_IV_1A!AH:AH) -> 0 | AC11: =SUMIF(B_IV_1A!$F:$F,$C11,B_IV_1A!AI:AI) -> 0 | AD11: =SUMIF(B_IV_1A!$F:$F,$C11,B_IV_1A!AJ:AJ) -> 0 | AE11: =SUMIF(B_IV_1A!$F:$F,$C11,B_IV_1A!AK:AK) -> 0 | AF11: =SUMIF(B_IV_1A!$F:$F,$C11,B_IV_1A!AL:AL) -> 0 | AG11: =SUMIF(B_IV_1A!$F:$F,$C11,B_IV_1A!AM:AM) -> 0 | AH11: =SUMIF(B_IV_1A!$F:$F,$C11,B_IV_1A!AN:AN) -> 0 | AI11: =SUMIF(B_IV_1A!$F:$F,$C11,B_IV_1A!AO:AO) -> 0 | AJ11: =SUMIF(B_IV_1A!$F:$F,$C11,B_IV_1A!AP:AP) -> 0 | AK11: =SUMIF(B_IV_1A!$F:$F,$C11,B_IV_1A!AQ:AQ) -> 0 | AL11: =SUM(AA11:AK11) -> 0 | AR11: =INDEX(B_IV_1A!$G:$G,MATCH($C11,B_IV_1A!$F:$F,0)) -> #N/A | AS11: =COUNTIF(B_IV_1A!$AZ$3:$AZ$1499,$D11) -> 0 | AT11: =SUMIF(B_IV_1A!$AZ$3:$AZ$1499,$D11,B_IV_1A!$CH$3:$CH$1499) -> 0 | AU11: =SUMIF(B_IV_1A!$AZ:$AZ,$D11,B_IV_1A!$CI:$CI) -> 0 | AV11: =SUMIF(B_IV_1A!$AZ:$AZ,$D11,B_IV_1A!$CI:$CI) -> 0
A12: 363 | B12: Szentgál ivóvízellátó víziközmű- rendszer | C12: 11-07922-1-001-00-11 | D12: 1855 | E12: Magyar Állam | F12: Szentgál | G12: =IF(ISNA($AR12),"Nincs rögzítve!",IF(AU12=0,"Hiányzik a rövidtávú terv!",IF(AV12=0,"Hiányzik a hosszútávú terv!",IF(AS12=AT12,"Kitöltés rendben!",IF(AS12<>AT12,"Kitöltési hiba!","Kitöltési hiba!"))))) -> Nincs rögzítve! | I12: =J12+K12 -> 0 | J12: =SUMIF(B_IV_1A!$F:$F,$C12,B_IV_1A!$N:$N) -> 0 | K12: =SUMIF(B_IV_1A!$F:$F,$C12,B_IV_1A!$O:$O) -> 0 | L12: =SUMIF(B_IV_1A!$F:$F,$C12,B_IV_1A!$P:$P) -> 0 | N12: =SUMIF(B_IV_1A!$F:$F,$C12,B_IV_1A!S:S) -> 0 | O12: =SUMIF(B_IV_1A!$F:$F,$C12,B_IV_1A!T:T) -> 0 | P12: =SUMIF(B_IV_1A!$F:$F,$C12,B_IV_1A!U:U) -> 0 | Q12: =SUMIF(B_IV_1A!$F:$F,$C12,B_IV_1A!V:V) -> 0 | R12: =SUMIF(B_IV_1A!$F:$F,$C12,B_IV_1A!W:W) -> 0 | S12: =SUMIF(B_IV_1A!$F:$F,$C12,B_IV_1A!X:X) -> 0 | T12: =SUMIF(B_IV_1A!$F:$F,$C12,B_IV_1A!Y:Y) -> 0 | U12: =SUMIF(B_IV_1A!$F:$F,$C12,B_IV_1A!Z:Z) -> 0 | V12: =SUMIF(B_IV_1A!$F:$F,$C12,B_IV_1A!AA:AA) -> 0 | W12: =SUMIF(B_IV_1A!$F:$F,$C12,B_IV_1A!AB:AB) -> 0 | X12: =SUMIF(B_IV_1A!$F:$F,$C12,B_IV_1A!AC:AC) -> 0 | Y12: =SUM(N12:X12) -> 0 | AA12: =SUMIF(B_IV_1A!$F:$F,$C12,B_IV_1A!AG:AG) -> 0 | AB12: =SUMIF(B_IV_1A!$F:$F,$C12,B_IV_1A!AH:AH) -> 0 | AC12: =SUMIF(B_IV_1A!$F:$F,$C12,B_IV_1A!AI:AI) -> 0 | AD12: =SUMIF(B_IV_1A!$F:$F,$C12,B_IV_1A!AJ:AJ) -> 0 | AE12: =SUMIF(B_IV_1A!$F:$F,$C12,B_IV_1A!AK:AK) -> 0 | AF12: =SUMIF(B_IV_1A!$F:$F,$C12,B_IV_1A!AL:AL) -> 0 | AG12: =SUMIF(B_IV_1A!$F:$F,$C12,B_IV_1A!AM:AM) -> 0 | AH12: =SUMIF(B_IV_1A!$F:$F,$C12,B_IV_1A!AN:AN) -> 0 | AI12: =SUMIF(B_IV_1A!$F:$F,$C12,B_IV_1A!AO:AO) -> 0 | AJ12: =SUMIF(B_IV_1A!$F:$F,$C12,B_IV_1A!AP:AP) -> 0 | AK12: =SUMIF(B_IV_1A!$F:$F,$C12,B_IV_1A!AQ:AQ) -> 0 | AL12: =SUM(AA12:AK12) -> 0 | AR12: =INDEX(B_IV_1A!$G:$G,MATCH($C12,B_IV_1A!$F:$F,0)) -> #N/A | AS12: =COUNTIF(B_IV_1A!$AZ$3:$AZ$1499,$D12) -> 0 | AT12: =SUMIF(B_IV_1A!$AZ$3:$AZ$1499,$D12,B_IV_1A!$CH$3:$CH$1499) -> 0 | AU12: =SUMIF(B_IV_1A!$AZ:$AZ,$D12,B_IV_1A!$CI:$CI) -> 0 | AV12: =SUMIF(B_IV_1A!$AZ:$AZ,$D12,B_IV_1A!$CI:$CI) -> 0
A13: 364 | B13: Farkasgyepű ivóvízellátó víziközmű- rendszer | C13: 11-10250-1-001-00-07 | D13: 1856 | E13: Magyar Állam | F13: Farkasgyepű | G13: =IF(ISNA($AR13),"Nincs rögzítve!",IF(AU13=0,"Hiányzik a rövidtávú terv!",IF(AV13=0,"Hiányzik a hosszútávú terv!",IF(AS13=AT13,"Kitöltés rendben!",IF(AS13<>AT13,"Kitöltési hiba!","Kitöltési hiba!"))))) -> Nincs rögzítve! | I13: =J13+K13 -> 0 | J13: =SUMIF(B_IV_1A!$F:$F,$C13,B_IV_1A!$N:$N) -> 0 | K13: =SUMIF(B_IV_1A!$F:$F,$C13,B_IV_1A!$O:$O) -> 0 | L13: =SUMIF(B_IV_1A!$F:$F,$C13,B_IV_1A!$P:$P) -> 0 | N13: =SUMIF(B_IV_1A!$F:$F,$C13,B_IV_1A!S:S) -> 0 | O13: =SUMIF(B_IV_1A!$F:$F,$C13,B_IV_1A!T:T) -> 0 | P13: =SUMIF(B_IV_1A!$F:$F,$C13,B_IV_1A!U:U) -> 0 | Q13: =SUMIF(B_IV_1A!$F:$F,$C13,B_IV_1A!V:V) -> 0 | R13: =SUMIF(B_IV_1A!$F:$F,$C13,B_IV_1A!W:W) -> 0 | S13: =SUMIF(B_IV_1A!$F:$F,$C13,B_IV_1A!X:X) -> 0 | T13: =SUMIF(B_IV_1A!$F:$F,$C13,B_IV_1A!Y:Y) -> 0 | U13: =SUMIF(B_IV_1A!$F:$F,$C13,B_IV_1A!Z:Z) -> 0 | V13: =SUMIF(B_IV_1A!$F:$F,$C13,B_IV_1A!AA:AA) -> 0 | W13: =SUMIF(B_IV_1A!$F:$F,$C13,B_IV_1A!AB:AB) -> 0 | X13: =SUMIF(B_IV_1A!$F:$F,$C13,B_IV_1A!AC:AC) -> 0 | Y13: =SUM(N13:X13) -> 0 | AA13: =SUMIF(B_IV_1A!$F:$F,$C13,B_IV_1A!AG:AG) -> 0 | AB13: =SUMIF(B_IV_1A!$F:$F,$C13,B_IV_1A!AH:AH) -> 0 | AC13: =SUMIF(B_IV_1A!$F:$F,$C13,B_IV_1A!AI:AI) -> 0 | AD13: =SUMIF(B_IV_1A!$F:$F,$C13,B_IV_1A!AJ:AJ) -> 0 | AE13: =SUMIF(B_IV_1A!$F:$F,$C13,B_IV_1A!AK:AK) -> 0 | AF13: =SUMIF(B_IV_1A!$F:$F,$C13,B_IV_1A!AL:AL) -> 0 | AG13: =SUMIF(B_IV_1A!$F:$F,$C13,B_IV_1A!AM:AM) -> 0 | AH13: =SUMIF(B_IV_1A!$F:$F,$C13,B_IV_1A!AN:AN) -> 0 | AI13: =SUMIF(B_IV_1A!$F:$F,$C13,B_IV_1A!AO:AO) -> 0 | AJ13: =SUMIF(B_IV_1A!$F:$F,$C13,B_IV_1A!AP:AP) -> 0 | AK13: =SUMIF(B_IV_1A!$F:$F,$C13,B_IV_1A!AQ:AQ) -> 0 | AL13: =SUM(AA13:AK13) -> 0 | AR13: =INDEX(B_IV_1A!$G:$G,MATCH($C13,B_IV_1A!$F:$F,0)) -> #N/A | AS13: =COUNTIF(B_IV_1A!$AZ$3:$AZ$1499,$D13) -> 0 | AT13: =SUMIF(B_IV_1A!$AZ$3:$AZ$1499,$D13,B_IV_1A!$CH$3:$CH$1499) -> 0 | AU13: =SUMIF(B_IV_1A!$AZ:$AZ,$D13,B_IV_1A!$CI:$CI) -> 0 | AV13: =SUMIF(B_IV_1A!$AZ:$AZ,$D13,B_IV_1A!$CI:$CI) -> 0
A14: 365 | B14: Egyházaskesző ivóvízellátó víziközmű- rendszer | C14: 11-10445-1-002-00-06 | D14: 1857 | E14: Magyar Állam | F14: Egyházaskesző, Várkesző | G14: =IF(ISNA($AR14),"Nincs rögzítve!",IF(AU14=0,"Hiányzik a rövidtávú terv!",IF(AV14=0,"Hiányzik a hosszútávú terv!",IF(AS14=AT14,"Kitöltés rendben!",IF(AS14<>AT14,"Kitöltési hiba!","Kitöltési hiba!"))))) -> Nincs rögzítve! | I14: =J14+K14 -> 0 | J14: =SUMIF(B_IV_1A!$F:$F,$C14,B_IV_1A!$N:$N) -> 0 | K14: =SUMIF(B_IV_1A!$F:$F,$C14,B_IV_1A!$O:$O) -> 0 | L14: =SUMIF(B_IV_1A!$F:$F,$C14,B_IV_1A!$P:$P) -> 0 | N14: =SUMIF(B_IV_1A!$F:$F,$C14,B_IV_1A!S:S) -> 0 | O14: =SUMIF(B_IV_1A!$F:$F,$C14,B_IV_1A!T:T) -> 0 | P14: =SUMIF(B_IV_1A!$F:$F,$C14,B_IV_1A!U:U) -> 0 | Q14: =SUMIF(B_IV_1A!$F:$F,$C14,B_IV_1A!V:V) -> 0 | R14: =SUMIF(B_IV_1A!$F:$F,$C14,B_IV_1A!W:W) -> 0 | S14: =SUMIF(B_IV_1A!$F:$F,$C14,B_IV_1A!X:X) -> 0 | T14: =SUMIF(B_IV_1A!$F:$F,$C14,B_IV_1A!Y:Y) -> 0 | U14: =SUMIF(B_IV_1A!$F:$F,$C14,B_IV_1A!Z:Z) -> 0 | V14: =SUMIF(B_IV_1A!$F:$F,$C14,B_IV_1A!AA:AA) -> 0 | W14: =SUMIF(B_IV_1A!$F:$F,$C14,B_IV_1A!AB:AB) -> 0 | X14: =SUMIF(B_IV_1A!$F:$F,$C14,B_IV_1A!AC:AC) -> 0 | Y14: =SUM(N14:X14) -> 0 | AA14: =SUMIF(B_IV_1A!$F:$F,$C14,B_IV_1A!AG:AG) -> 0 | AB14: =SUMIF(B_IV_1A!$F:$F,$C14,B_IV_1A!AH:AH) -> 0 | AC14: =SUMIF(B_IV_1A!$F:$F,$C14,B_IV_1A!AI:AI) -> 0 | AD14: =SUMIF(B_IV_1A!$F:$F,$C14,B_IV_1A!AJ:AJ) -> 0 | AE14: =SUMIF(B_IV_1A!$F:$F,$C14,B_IV_1A!AK:AK) -> 0 | AF14: =SUMIF(B_IV_1A!$F:$F,$C14,B_IV_1A!AL:AL) -> 0 | AG14: =SUMIF(B_IV_1A!$F:$F,$C14,B_IV_1A!AM:AM) -> 0 | AH14: =SUMIF(B_IV_1A!$F:$F,$C14,B_IV_1A!AN:AN) -> 0 | AI14: =SUMIF(B_IV_1A!$F:$F,$C14,B_IV_1A!AO:AO) -> 0 | AJ14: =SUMIF(B_IV_1A!$F:$F,$C14,B_IV_1A!AP:AP) -> 0 | AK14: =SUMIF(B_IV_1A!$F:$F,$C14,B_IV_1A!AQ:AQ) -> 0 | AL14: =SUM(AA14:AK14) -> 0 | AR14: =INDEX(B_IV_1A!$G:$G,MATCH($C14,B_IV_1A!$F:$F,0)) -> #N/A | AS14: =COUNTIF(B_IV_1A!$AZ$3:$AZ$1499,$D14) -> 0 | AT14: =SUMIF(B_IV_1A!$AZ$3:$AZ$1499,$D14,B_IV_1A!$CH$3:$CH$1499) -> 0 | AU14: =SUMIF(B_IV_1A!$AZ:$AZ,$D14,B_IV_1A!$CI:$CI) -> 0 | AV14: =SUMIF(B_IV_1A!$AZ:$AZ,$D14,B_IV_1A!$CI:$CI) -> 0
A15: 366 | B15: Pula ivóvízellátó víziközmű- rendszer | C15: 11-11420-1-001-00-13 | D15: 1858 | E15: Magyar Állam | F15: Pula | G15: =IF(ISNA($AR15),"Nincs rögzítve!",IF(AU15=0,"Hiányzik a rövidtávú terv!",IF(AV15=0,"Hiányzik a hosszútávú terv!",IF(AS15=AT15,"Kitöltés rendben!",IF(AS15<>AT15,"Kitöltési hiba!","Kitöltési hiba!"))))) -> Nincs rögzítve! | I15: =J15+K15 -> 0 | J15: =SUMIF(B_IV_1A!$F:$F,$C15,B_IV_1A!$N:$N) -> 0 | K15: =SUMIF(B_IV_1A!$F:$F,$C15,B_IV_1A!$O:$O) -> 0 | L15: =SUMIF(B_IV_1A!$F:$F,$C15,B_IV_1A!$P:$P) -> 0 | N15: =SUMIF(B_IV_1A!$F:$F,$C15,B_IV_1A!S:S) -> 0 | O15: =SUMIF(B_IV_1A!$F:$F,$C15,B_IV_1A!T:T) -> 0 | P15: =SUMIF(B_IV_1A!$F:$F,$C15,B_IV_1A!U:U) -> 0 | Q15: =SUMIF(B_IV_1A!$F:$F,$C15,B_IV_1A!V:V) -> 0 | R15: =SUMIF(B_IV_1A!$F:$F,$C15,B_IV_1A!W:W) -> 0 | S15: =SUMIF(B_IV_1A!$F:$F,$C15,B_IV_1A!X:X) -> 0 | T15: =SUMIF(B_IV_1A!$F:$F,$C15,B_IV_1A!Y:Y) -> 0 | U15: =SUMIF(B_IV_1A!$F:$F,$C15,B_IV_1A!Z:Z) -> 0 | V15: =SUMIF(B_IV_1A!$F:$F,$C15,B_IV_1A!AA:AA) -> 0 | W15: =SUMIF(B_IV_1A!$F:$F,$C15,B_IV_1A!AB:AB) -> 0 | X15: =SUMIF(B_IV_1A!$F:$F,$C15,B_IV_1A!AC:AC) -> 0 | Y15: =SUM(N15:X15) -> 0 | AA15: =SUMIF(B_IV_1A!$F:$F,$C15,B_IV_1A!AG:AG) -> 0 | AB15: =SUMIF(B_IV_1A!$F:$F,$C15,B_IV_1A!AH:AH) -> 0 | AC15: =SUMIF(B_IV_1A!$F:$F,$C15,B_IV_1A!AI:AI) -> 0 | AD15: =SUMIF(B_IV_1A!$F:$F,$C15,B_IV_1A!AJ:AJ) -> 0 | AE15: =SUMIF(B_IV_1A!$F:$F,$C15,B_IV_1A!AK:AK) -> 0 | AF15: =SUMIF(B_IV_1A!$F:$F,$C15,B_IV_1A!AL:AL) -> 0 | AG15: =SUMIF(B_IV_1A!$F:$F,$C15,B_IV_1A!AM:AM) -> 0 | AH15: =SUMIF(B_IV_1A!$F:$F,$C15,B_IV_1A!AN:AN) -> 0 | AI15: =SUMIF(B_IV_1A!$F:$F,$C15,B_IV_1A!AO:AO) -> 0 | AJ15: =SUMIF(B_IV_1A!$F:$F,$C15,B_IV_1A!AP:AP) -> 0 | AK15: =SUMIF(B_IV_1A!$F:$F,$C15,B_IV_1A!AQ:AQ) -> 0 | AL15: =SUM(AA15:AK15) -> 0 | AR15: =INDEX(B_IV_1A!$G:$G,MATCH($C15,B_IV_1A!$F:$F,0)) -> #N/A | AS15: =COUNTIF(B_IV_1A!$AZ$3:$AZ$1499,$D15) -> 0 | AT15: =SUMIF(B_IV_1A!$AZ$3:$AZ$1499,$D15,B_IV_1A!$CH$3:$CH$1499) -> 0 | AU15: =SUMIF(B_IV_1A!$AZ:$AZ,$D15,B_IV_1A!$CI:$CI) -> 0 | AV15: =SUMIF(B_IV_1A!$AZ:$AZ,$D15,B_IV_1A!$CI:$CI) -> 0
... A56: 2749 | B56: Csór-karsztakna | C56: 31-09779-0-001-00-11 | D56: 4294 | E56: Magyar Állam | F56: Csór (vízműtelep, karsztakna) | G56: =IF(ISNA($AR56),"Nincs rögzítve!",IF(AU56=0,"Hiányzik a rövidtávú terv!",IF(AV56=0,"Hiányzik a hosszútávú terv!",IF(AS56=AT56,"Kitöltés rendben!",IF(AS56<>AT56,"Kitöltési hiba!","Kitöltési hiba!"))))) -> Nincs rögzítve! | I56: =J56+K56 -> 0 | J56: =SUMIF(B_IV_1A!$F:$F,$C56,B_IV_1A!$N:$N) -> 0 | K56: =SUMIF(B_IV_1A!$F:$F,$C56,B_IV_1A!$O:$O) -> 0 | L56: =SUMIF(B_IV_1A!$F:$F,$C56,B_IV_1A!$P:$P) -> 0 | N56: =SUMIF(B_IV_1A!$F:$F,$C56,B_IV_1A!S:S) -> 0 | O56: =SUMIF(B_IV_1A!$F:$F,$C56,B_IV_1A!T:T) -> 0 | P56: =SUMIF(B_IV_1A!$F:$F,$C56,B_IV_1A!U:U) -> 0 | Q56: =SUMIF(B_IV_1A!$F:$F,$C56,B_IV_1A!V:V) -> 0 | R56: =SUMIF(B_IV_1A!$F:$F,$C56,B_IV_1A!W:W) -> 0 | S56: =SUMIF(B_IV_1A!$F:$F,$C56,B_IV_1A!X:X) -> 0 | T56: =SUMIF(B_IV_1A!$F:$F,$C56,B_IV_1A!Y:Y) -> 0 | U56: =SUMIF(B_IV_1A!$F:$F,$C56,B_IV_1A!Z:Z) -> 0 | V56: =SUMIF(B_IV_1A!$F:$F,$C56,B_IV_1A!AA:AA) -> 0 | W56: =SUMIF(B_IV_1A!$F:$F,$C56,B_IV_1A!AB:AB) -> 0 | X56: =SUMIF(B_IV_1A!$F:$F,$C56,B_IV_1A!AC:AC) -> 0 | Y56: =SUM(N56:X56) -> 0 | AA56: =SUMIF(B_IV_1A!$F:$F,$C56,B_IV_1A!AG:AG) -> 0 | AB56: =SUMIF(B_IV_1A!$F:$F,$C56,B_IV_1A!AH:AH) -> 0 | AC56: =SUMIF(B_IV_1A!$F:$F,$C56,B_IV_1A!AI:AI) -> 0 | AD56: =SUMIF(B_IV_1A!$F:$F,$C56,B_IV_1A!AJ:AJ) -> 0 | AE56: =SUMIF(B_IV_1A!$F:$F,$C56,B_IV_1A!AK:AK) -> 0 | AF56: =SUMIF(B_IV_1A!$F:$F,$C56,B_IV_1A!AL:AL) -> 0 | AG56: =SUMIF(B_IV_1A!$F:$F,$C56,B_IV_1A!AM:AM) -> 0 | AH56: =SUMIF(B_IV_1A!$F:$F,$C56,B_IV_1A!AN:AN) -> 0 | AI56: =SUMIF(B_IV_1A!$F:$F,$C56,B_IV_1A!AO:AO) -> 0 | AJ56: =SUMIF(B_IV_1A!$F:$F,$C56,B_IV_1A!AP:AP) -> 0 | AK56: =SUMIF(B_IV_1A!$F:$F,$C56,B_IV_1A!AQ:AQ) -> 0 | AL56: =SUM(AA56:AK56) -> 0 | AR56: =INDEX(B_IV_1A!$G:$G,MATCH($C56,B_IV_1A!$F:$F,0)) -> #N/A | AS56: =COUNTIF(B_IV_1A!$AZ$3:$AZ$1499,$D56) -> 0 | AT56: =SUMIF(B_IV_1A!$AZ$3:$AZ$1499,$D56,B_IV_1A!$CH$3:$CH$1499) -> 0 | AU56: =SUMIF(B_IV_1A!$AZ:$AZ,$D56,B_IV_1A!$CI:$CI) -> 0 | AV56: =SUMIF(B_IV_1A!$AZ:$AZ,$D56,B_IV_1A!$CI:$CI) -> 0

Sheet B_IV_1A
B1: A | C1: B | D1: C | E1: D | F1: E/1 | G1: E/2 | H1: fx | I1: VKEFFO | J1: F | K1: G | L1: I/1 | M1: I/2 | N1: J/1 | O1: J/2 | P1: VKEFFO | S1: H/1 -- Forrás megnevezése (I. ütem) | AE1: fx | AG1: H/2 -- Forrás megnevezése (II. ütem) | AT1: fx | AV1: VKEFFO | AW1: VKEFFO | AZ1: fx | BA1: fx | BB1: fx | BC1: fx | BD1: fx | BE1: fx | BF1: fx | BG1: fx | BH1: fx | BI1: fx | BJ1: fx | BK1: fx | BL1: fx | BM1: fx | BN1: fx | BO1: fx | BP1: fx | BQ1: fx | BR1: fx | BS1: fx | BT1: fx | BU1: fx | BV1: fx | BW1: fx | BX1: fx | BY1: fx | BZ1: fx | CA1: fx | CB1: fx | CC1: fx | CD1: fx | CE1: fx | CF1: fx | CG1: fx | CH1: fx | CI1: fx | CJ1: fx
A2: Ellenőrzés | B2: Fontossági sorrend | C2: A beruházási feladat kategóriája | D2: beruházás megnevezése | E2: Vízjogi létesítési/ elvi engedély száma (amennyiben rendelkezésre áll) | F2: Víziközmű-rendszer hivatali kódja | G2: Víziközmű-rendszer megnevezése | H2: FELADAT-AZONOSITO | I2: Ellátási terület | J2: Az érintett ellátásért felelős(ök) megnevezése | K2: Tervezett nettó költség [eFt] | L2: Megvalósítás várható időtartama - KEZDÉS | M2: Megvalósítás várható időtartama - BEFEJEZÉS | N2: A beruházás tervezett nettó költsége a tervezési időszak ütemezése szerint [eFt] - I. ütem | O2: A beruházás tervezett nettó költsége a tervezési időszak ütemezése szerint [eFt] - II. ütem | P2: Az EM rendelet 2. melléklet terhére elszámolni tervezett költség | Q2: Előkészítettsége | S2: Használati díj [eFt] | T2: ÉCS [eFt] | U2: Közműfejlesztési hozzájárulás [eFt] | V2: Egyéb saját forrás [eFt] | W2: Díj [eFt] | X2: VFEA - EM rendelet 1. melléklet | Y2: Egyéb állami támogatás [eFt] | Z2: Önkormányzati támogatás [eFt] | AA2: EU-s támogatás [eFt] | AB2: Egyéb támogatás [eFt] | AC2: Banki hitel, kötvénykibocsátás [eFt] | AD2: Összesítés [eFt] | AE2: Forrás (I. ütem) - ELLENŐRZÉS | AG2: Használati díj [eFt] | AH2: ÉCS [eFt] | AI2: Közműfejlesztési hozzájárulás [eFt] | AJ2: Egyéb saját forrás [eFt] | AK2: Díj [eFt] | AL2: VFEA - EM rendelet 1. melléklet | AM2: Egyéb állami támogatás [eFt] | AN2: Önkormányzati támogatás [eFt] | AO2: EU-s támogatás [eFt] | AP2: Egyéb támogatás [eFt] | AQ2: Banki hitel, kötvénykibocsátás [eFt] | AR2: Összesítés [eFt] | AS2: Forráshiányos a feladat (II. ütem)? | AT2: Forrás (II. ütem) - ELLENŐRZÉS | AV2: INDOKLÁS | AW2: MEGJEGYZÉS | AX2: Feladat sorszáma | AZ2: ISA | BA2: Indoklás hossza | BB2: Minden kitöltve? (kivéve a forrás) 1-igen;0-nem | BC2: 2027-2027: R 2027-x: RH 2028-x: H | BD2: Van rövid távú feladat | BE2: Ütem költségek hibásak? --- 1-igen; 0-nem | BF2: 1.ütem FORRÁS --- forráshiányos? 1-igen;0-nem | BG2: 1.ütem FORRÁS --- Összesítés | BH2: 1.ütem FORRÁS kitöltve? 1-igen, 0-nem | BI2: 1.ütem FORRÁS jól kitöltve? 1-igen;0-nem | BJ2: 2.ütem FORRÁS --- forráshiányos? 1-igen;0-nem | BK2: 2.ütem FORRÁS kitöltve? 1-igen, 0-nem | BL2: 2.ütem FORRÁS jól kitöltve? 1-igen;0-nem | BM2: 2.FORRÁS ütem --- Összesítés | BN2: Van feladat 1.ütem? 1-igen;0-nem | BO2: Van feladat 2.ütem? 1-igen;0-nem | BP2: 1.ütem nullás a terv? 1-igen;0-nem | BQ2: 2.ütem nullás a terv? 1-igen;0-nem | BR2: Nullás és van indoklás rövidtáv 1-igen; 0-nem | BS2: Nincs hosszútávú terv (ktg) indoklás? | BT2: Nullás és van idnoklás rövidtáv 1-igen; 0-nem | BU2: Nullás és van indoklás hosszútáv 1-igen; 0-nem | BV2: Fontossági sorrend | BW2: A beruházási feladat kategóriája | BX2: beruházás megnevezése | BY2: Vízjogi létesítési/ elvi engedély száma (amennyiben rendelkezésre áll) | BZ2: Megvalósítás várható időtartama - KEZDÉS | CA2: Megvalósítás várható időtartama - BEFEJEZÉS | CB2: A beruházás tervezett nettó költsége a tervezési időszak ütemezése szerint [eFt] - I. ütem | CC2: A beruházás tervezett nettó költsége a tervezési időszak ütemezése szerint [eFt] - II. ütem | CD2: VFEA - EM rendelet 2. melléklet (fenntartására fordítandó) | CE2: Előkészítettsége | CF2: HIÁNYOS kitöltés?! | CG2: ÖSSZESÍTŐ szöveggel | CH2: Kitöltés rendben! >> 1; Egyébként >> 0 | CI2: Rövid és jó | CJ2: Hosszú és jó
A3: =IF($G3="","Nincs VKR kiválasztva!",CG3) -> Kitöltés rendben! | B3: II-1 | C3: 1312_ELOSZT_VEZETÉK_GERINC | D3: FI-5023-2026 Balatonhenye Petőfi u. NA 63-as ivóvíz hálózat rekonstrukciójának tervezése NA 110 KPE anyagúra 450 méter hosszúságban | E3: nincs | F3: =VLOOKUP($G3,Összesítő!$B:$F,2,FALSE) -> 11-03638-1-001-00-06 | G3: DRV_V_201 | H3: =AZ3&"_"&AX3&"_FIV_"&LEFT(Előlap!$B$6,4) -> 2435_1_FIV_2026 | I3: =VLOOKUP($G3,Összesítő!$B:$F,5,FALSE) -> Balatonhenye | J3: =VLOOKUP($G3,Összesítő!$B:$F,4,FALSE) -> Balatonhenye Község Önkormányzata | K3: =N3+O3 -> 1000 | L3: 2028 | M3: 2028 | N3: 0 | O3: 1000 | P3: 0 | Q3: Nincs előkészítve | S3: 0 | T3: 0 | U3: 0 | V3: 0 | W3: 0 | X3: 0 | Y3: 0 | Z3: 0 | AA3: 0 | AB3: 0 | AC3: 0 | AD3: =SUM(S3:AC3) -> 0 | AE3: =IF($G3="","Nincs VKR kiválasztva!",IF(BB3=0,"Hiányos kitöltés!",BG3)) -> Nem rövidtávú a feladat. | AG3: 0 | AH3: 0 | AI3: 0 | AJ3: 0 | AK3: 0 | AL3: 0 | AM3: 0 | AN3: 0 | AO3: 0 | AP3: 0 | AQ3: 0 | AR3: =SUM(AG3:AQ3) -> 0 | AS3: igen | AT3: =IF($G3="","Nincs VKR kiválasztva!",IF($BB3=0,"Hiányos kitöltés!",IF($BO3=0,"Nem hosszútávú a feladat.",$BM3))) -> Forráshiányos a feladat! | AX3: =COUNTA($G$3:G3) -> 1 | AZ3: =VLOOKUP($G3,Összesítő!$B:$F,3,FALSE) -> 2435 | BA3: =LEN($AV3) -> 0 | BB3: =IF(OR($B3="",$C3="",$D3="",$E3="",$F3="",$L3="",$M3="",$N3="",$O3="",$P3="",$Q3=""),0,1) -> 1 | BC3: =IF($F3="",0,IF(AND($L3=2027,$M3=2027),"R",IF(AND($L3=2027,$M3>2027),"RH",IF(AND($L3>2027,$M3>2027),"H","x")))) -> H | BD3: =IF(OR(BC3="R",BC3="RH"),1,0) -> 0 | BE3: =IF(AND($BC3="R",$O3>0),1,IF(AND($BC3="H",$N3>0),1,0)) -> 0 | BF3: =IF($AD3<$N3,1,IF($AD3=$N3,0)) -> 0 | BG3: =IF($L3>2027,"Nem rövidtávú a feladat.",IF($BF3=1,"Az I. ütem nem lehet forráshiányos!",IF($AD3>$N3,"Többlet forrást jelölt meg az I. ütemnél! A forrás ne legyen több a költségnél.",IF($AD3=$N3,"A forrás egyenlő a költséggel (I.ütem).",0)))) -> Nem rövidtávú a feladat. | BH3: =IF(AND($S3<>"",$T3<>"",$U3<>"",$V3<>"",$W3<>"",$X3<>"",$Y3<>"",$Z3<>"",$AA3<>"",$AB3<>"",$AC3<>""),1,0) -> 1 | BI3: =IF(AND($BH3=1,$N3=$AD3),1,0) -> 1 | BJ3: =IF($AR3<$O3,1,0) -> 1 | BK3: =IF(AND($AG3<>"",$AH3<>"",$AI3<>"",$AJ3<>"",$AK3<>"",$AL3<>"",$AM3<>"",$AN3<>"",$AO3<>"",$AP3<>"",$AQ3<>""),1,0) -> 1 | BL3: =IF(AND($BK3=1,$O3=$AR3),1,IF(AND($BK3=1,$O3>$AR3,AS3="igen"),1,0)) -> 1 | BM3: =IF($M3<2028,"Nem hosszútávú a feladat.",IF(AND($BJ3=1,$AS3="nem"),"Forráshiányos a feladat? Jelölje az AR-oszlopban!",IF(AND($BJ3=0,$AS3="igen"),"Forráshiányosnak jelölte a feladat az AR-oszlopban, de a forrás költség adatok alapnján nem az!",IF(AND($BJ3=1,$AS3="igen"),"Forráshiányos a feladat!",IF($AR3>$O3,"Többlet forrást jelölt meg a II. ütemnél! A forrás ne legyen több a költségnél.",IF($AR3=$O3,"A forrás egyenlő a költséggel (II.ütem).",0)))))) -> Forráshiányos a feladat! | BN3: =IF($M3<2028,1,0) -> 0 | BO3: =IF($M3>2027,1,0) -> 1 | BP3: =IF(AND($BN3=1,$N3=0),1,0) -> 0 | BQ3: =IF(AND($BO3=1,$O3=0),1,0) -> 0 | BR3: =IF(AND($BC3="R",$N3=0,$BA3>29),1,IF(AND($BC3="RH",$N3=0,$BA3>29),1,0)) -> 0 | BS3: =IF($BO3=0,"Nincs hosszútávú terv!",IF(AND($BC3="H",$O3=0,$BA3=0),"Nullás a hosszútávú feladat és nincs hozzá indoklás!",IF(AND($BC3="RH",$O3=0,$BA3=0),"Nullás a hosszútávú feladat és nincs hozzá indoklás!",IF(AND($BC3="R",$O3=0,$BA3<300),"Nullás a hosszútávú feladat és rövid hozzá az indoklás!",IF(AND($BC3="RH",$O3=0,$BA3<300),"Nullás a hosszútávú feladat és rövid hozzá az indoklás!",0))))) -> 0 | BT3: =IF(AND($BC3="R",$N3=0,$BA3>29),1,IF(AND($BC3="RH",$N3=0,$BA3>29),1,0)) -> 0 | BU3: =IF(AND($BC3="H",$O3=0,$BA3>29),1,IF(AND($BC3="RH",$O3=0,$BA3>29),1,0)) -> 0 | BV3: =IF($B3="",0,1) -> 1 | BW3: =IF($C3="",0,1) -> 1 | BX3: =IF($D3="",0,1) -> 1 | BY3: =IF($E3="",0,1) -> 1 | BZ3: =IF($L3="",0,1) -> 1 | CA3: =IF($M3="",0,1) -> 1 | CB3: =IF($N3="",0,1) -> 1 | CC3: =IF($O3="",0,1) -> 1 | CD3: =IF($P3="",0,1) -> 1 | CE3: =IF($Q3="",0,1) -> 1 | CF3: =IF(AND($BB3=0,$BV3=0),"Hiányos kitöltés! (B-oszlop üres)",IF(AND($BB3=0,$BW3=0),"Hiányos kitöltés! (C-oszlop üres)",IF(AND($BB3=0,$BX3=0),"Hiányos kitöltés! (D-oszlop üres)",IF(AND($BB3=0,$BY3=0),"Hiányos kitöltés! (E-oszlop üres)",IF(AND($BB3=0,$BZ3=0),"Hiányos kitöltés! (L-oszlop üres)",IF(AND($BB3=0,$CA3=0),"Hiányos kitöltés! (M-oszlop üres)",IF(AND($BB3=0,$CB3=0),"Hiányos kitöltés! (N-oszlop üres)",IF(AND($BB3=0,$CC3=0),"Hiányos kitöltés! (O-oszlop üres)",IF(AND($BB3=0,$CD3=0),"Hiányos kitöltés! (P-oszlop üres)",IF(AND($BB3=0,$CE3=0),"Hiányos kitöltés! (Q-oszlop üres)",IF(AND($BB3=0,$BH3=0),"Hiányos kitöltés! (I.ütem forrása hiányos!","?"))))))))))) -> ? | CG3: =IF($BB3=0,$CF3,IF($BH3=0,"I. ütem forrása nincs kitöltve!",IF($BK3=0,"II. ütem forrása nincs kitöltve!",IF($BE3=1,"Költségek üteme nem megfelelő (az időtartam és a költség üteme eltér)!",IF(AND(BI3=0,$BB3=1,$BK3=1,$BE3=1),"Kötelező cellák kitöltve, de az I. ütem forrása hibás!",IF(AND(BK3=0,$BB3=1,$BK3=1,$BE3=1),"Kötelező cellák kitöltve, de a II. ütem forrása hibás!",IF(AND($BP3=1,$BA3<30),"Nullás a rövidtávú feladat és rövid (hiányzik) a hozzá tartozó indoklás!",IF(AND($BQ3=1,$BA3<30),"Nullás a hosszútávú feladat és rövid (hiányzik) a hozzá tartozó indoklás!",IF(AND(BO3=1,C3="1811_RENDKÍVÜLI"),"II. ütemre nem tervezhet Rendkívüli feladatot!",IF(BI3=0,AE3,IF(BL3=0,AT3,IF(AND(BD3=1,$P3>$N3),"EM rendelet 2. melléklet terhére elszámolt költség nem lehet nagyobb az I. ütemre tervezett tényleges költségnél!",IF($AD3>$N3,"Többlet forrást jelölt meg az I. ütemnél! A forrás ne legyen több a költségnél.",IF($AR3>$O3,"Többlet forrást jelölt meg a II. ütemnél! A forrás ne legyen több a költségnél.","Kitöltés rendben!")))))))))))))) -> Kitöltés rendben! | CH3: =IF(A3="Kitöltés rendben!",1,0) -> 1 | CI3: =IF(AND($BC3="R",$CH3=1),1,IF(AND($BC3="RH",$CH3=1),1,0)) -> 0 | CJ3: =IF(AND($BC3="H",$CH3=1),1,IF(AND($BC3="RH",$CH3=1),1,0)) -> 1
A4: =IF($G4="","Nincs VKR kiválasztva!",CG4) -> Kitöltés rendben! | B4: 0 | C4: 1711_NINCS_FELADAT | D4: nincs feladat | E4: nincs | F4: =VLOOKUP($G4,Összesítő!$B:$F,2,FALSE) -> 11-03638-1-001-00-06 | G4: DRV_V_201 | H4: =AZ4&"_"&AX4&"_FIV_"&LEFT(Előlap!$B$6,4) -> 2435_2_FIV_2026 | I4: =VLOOKUP($G4,Összesítő!$B:$F,5,FALSE) -> Balatonhenye | J4: =VLOOKUP($G4,Összesítő!$B:$F,4,FALSE) -> Balatonhenye Község Önkormányzata | K4: =N4+O4 -> 0 | L4: 2027 | M4: 2027 | N4: 0 | O4: 0 | P4: 0 | Q4: Nem szükséges | S4: 0 | T4: 0 | U4: 0 | V4: 0 | W4: 0 | X4: 0 | Y4: 0 | Z4: 0 | AA4: 0 | AB4: 0 | AC4: 0 | AD4: =SUM(S4:AC4) -> 0 | AE4: =IF($G4="","Nincs VKR kiválasztva!",IF(BB4=0,"Hiányos kitöltés!",BG4)) -> A forrás egyenlő a költséggel (I.ütem). | AG4: 0 | AH4: 0 | AI4: 0 | AJ4: 0 | AK4: 0 | AL4: 0 | AM4: 0 | AN4: 0 | AO4: 0 | AP4: 0 | AQ4: 0 | AR4: =SUM(AG4:AQ4) -> 0 | AS4: nem | AT4: =IF($G4="","Nincs VKR kiválasztva!",IF($BB4=0,"Hiányos kitöltés!",IF($BO4=0,"Nem hosszútávú a feladat.",$BM4))) -> Nem hosszútávú a feladat. | AV4: Az I.ütemben nem terveztünk fejlesztési feladatot, mert ezen rendszeren nem ismertek olyan bővítési, átalakítási igények, amit rövid távon kellene megoldani. | AX4: =COUNTA($G$3:G4) -> 2 | AZ4: =VLOOKUP($G4,Összesítő!$B:$F,3,FALSE) -> 2435 | BA4: =LEN($AV4) -> 157 | BB4: =IF(OR($B4="",$C4="",$D4="",$E4="",$F4="",$L4="",$M4="",$N4="",$O4="",$P4="",$Q4=""),0,1) -> 1 | BC4: =IF($F4="",0,IF(AND($L4=2027,$M4=2027),"R",IF(AND($L4=2027,$M4>2027),"RH",IF(AND($L4>2027,$M4>2027),"H","x")))) -> R | BD4: =IF(OR(BC4="R",BC4="RH"),1,0) -> 1 | BE4: =IF(AND($BC4="R",$O4>0),1,IF(AND($BC4="H",$N4>0),1,0)) -> 0 | BF4: =IF($AD4<$N4,1,IF($AD4=$N4,0)) -> 0 | BG4: =IF($L4>2027,"Nem rövidtávú a feladat.",IF($BF4=1,"Az I. ütem nem lehet forráshiányos!",IF($AD4>$N4,"Többlet forrást jelölt meg az I. ütemnél! A forrás ne legyen több a költségnél.",IF($AD4=$N4,"A forrás egyenlő a költséggel (I.ütem).",0)))) -> A forrás egyenlő a költséggel (I.ütem). | BH4: =IF(AND($S4<>"",$T4<>"",$U4<>"",$V4<>"",$W4<>"",$X4<>"",$Y4<>"",$Z4<>"",$AA4<>"",$AB4<>"",$AC4<>""),1,0) -> 1 | BI4: =IF(AND($BH4=1,$N4=$AD4),1,0) -> 1 | BJ4: =IF($AR4<$O4,1,0) -> 0 | BK4: =IF(AND($AG4<>"",$AH4<>"",$AI4<>"",$AJ4<>"",$AK4<>"",$AL4<>"",$AM4<>"",$AN4<>"",$AO4<>"",$AP4<>"",$AQ4<>""),1,0) -> 1 | BL4: =IF(AND($BK4=1,$O4=$AR4),1,IF(AND($BK4=1,$O4>$AR4,AS4="igen"),1,0)) -> 1 | BM4: =IF($M4<2028,"Nem hosszútávú a feladat.",IF(AND($BJ4=1,$AS4="nem"),"Forráshiányos a feladat? Jelölje az AR-oszlopban!",IF(AND($BJ4=0,$AS4="igen"),"Forráshiányosnak jelölte a feladat az AR-oszlopban, de a forrás költség adatok alapnján nem az!",IF(AND($BJ4=1,$AS4="igen"),"Forráshiányos a feladat!",IF($AR4>$O4,"Többlet forrást jelölt meg a II. ütemnél! A forrás ne legyen több a költségnél.",IF($AR4=$O4,"A forrás egyenlő a költséggel (II.ütem).",0)))))) -> Nem hosszútávú a feladat. | BN4: =IF($M4<2028,1,0) -> 1 | BO4: =IF($M4>2027,1,0) -> 0 | BP4: =IF(AND($BN4=1,$N4=0),1,0) -> 1 | BQ4: =IF(AND($BO4=1,$O4=0),1,0) -> 0 | BR4: =IF(AND($BC4="R",$N4=0,$BA4>29),1,IF(AND($BC4="RH",$N4=0,$BA4>29),1,0)) -> 1 | BS4: =IF($BO4=0,"Nincs hosszútávú terv!",IF(AND($BC4="H",$O4=0,$BA4=0),"Nullás a hosszútávú feladat és nincs hozzá indoklás!",IF(AND($BC4="RH",$O4=0,$BA4=0),"Nullás a hosszútávú feladat és nincs hozzá indoklás!",IF(AND($BC4="R",$O4=0,$BA4<300),"Nullás a hosszútávú feladat és rövid hozzá az indoklás!",IF(AND($BC4="RH",$O4=0,$BA4<300),"Nullás a hosszútávú feladat és rövid hozzá az indoklás!",0))))) -> Nincs hosszútávú terv! | BT4: =IF(AND($BC4="R",$N4=0,$BA4>29),1,IF(AND($BC4="RH",$N4=0,$BA4>29),1,0)) -> 1 | BU4: =IF(AND($BC4="H",$O4=0,$BA4>29),1,IF(AND($BC4="RH",$O4=0,$BA4>29),1,0)) -> 0 | BV4: =IF($B4="",0,1) -> 1 | BW4: =IF($C4="",0,1) -> 1 | BX4: =IF($D4="",0,1) -> 1 | BY4: =IF($E4="",0,1) -> 1 | BZ4: =IF($L4="",0,1) -> 1 | CA4: =IF($M4="",0,1) -> 1 | CB4: =IF($N4="",0,1) -> 1 | CC4: =IF($O4="",0,1) -> 1 | CD4: =IF($P4="",0,1) -> 1 | CE4: =IF($Q4="",0,1) -> 1 | CF4: =IF(AND($BB4=0,$BV4=0),"Hiányos kitöltés! (B-oszlop üres)",IF(AND($BB4=0,$BW4=0),"Hiányos kitöltés! (C-oszlop üres)",IF(AND($BB4=0,$BX4=0),"Hiányos kitöltés! (D-oszlop üres)",IF(AND($BB4=0,$BY4=0),"Hiányos kitöltés! (E-oszlop üres)",IF(AND($BB4=0,$BZ4=0),"Hiányos kitöltés! (L-oszlop üres)",IF(AND($BB4=0,$CA4=0),"Hiányos kitöltés! (M-oszlop üres)",IF(AND($BB4=0,$CB4=0),"Hiányos kitöltés! (N-oszlop üres)",IF(AND($BB4=0,$CC4=0),"Hiányos kitöltés! (O-oszlop üres)",IF(AND($BB4=0,$CD4=0),"Hiányos kitöltés! (P-oszlop üres)",IF(AND($BB4=0,$CE4=0),"Hiányos kitöltés! (Q-oszlop üres)",IF(AND($BB4=0,$BH4=0),"Hiányos kitöltés! (I.ütem forrása hiányos!","?"))))))))))) -> ? | CG4: =IF($BB4=0,$CF4,IF($BH4=0,"I. ütem forrása nincs kitöltve!",IF($BK4=0,"II. ütem forrása nincs kitöltve!",IF($BE4=1,"Költségek üteme nem megfelelő (az időtartam és a költség üteme eltér)!",IF(AND(BI4=0,$BB4=1,$BK4=1,$BE4=1),"Kötelező cellák kitöltve, de az I. ütem forrása hibás!",IF(AND(BK4=0,$BB4=1,$BK4=1,$BE4=1),"Kötelező cellák kitöltve, de a II. ütem forrása hibás!",IF(AND($BP4=1,$BA4<30),"Nullás a rövidtávú feladat és rövid (hiányzik) a hozzá tartozó indoklás!",IF(AND($BQ4=1,$BA4<30),"Nullás a hosszútávú feladat és rövid (hiányzik) a hozzá tartozó indoklás!",IF(AND(BO4=1,C4="1811_RENDKÍVÜLI"),"II. ütemre nem tervezhet Rendkívüli feladatot!",IF(BI4=0,AE4,IF(BL4=0,AT4,IF(AND(BD4=1,$P4>$N4),"EM rendelet 2. melléklet terhére elszámolt költség nem lehet nagyobb az I. ütemre tervezett tényleges költségnél!",IF($AD4>$N4,"Többlet forrást jelölt meg az I. ütemnél! A forrás ne legyen több a költségnél.",IF($AR4>$O4,"Többlet forrást jelölt meg a II. ütemnél! A forrás ne legyen több a költségnél.","Kitöltés rendben!")))))))))))))) -> Kitöltés rendben! | CH4: =IF(A4="Kitöltés rendben!",1,0) -> 1 | CI4: =IF(AND($BC4="R",$CH4=1),1,IF(AND($BC4="RH",$CH4=1),1,0)) -> 1 | CJ4: =IF(AND($BC4="H",$CH4=1),1,IF(AND($BC4="RH",$CH4=1),1,0)) -> 0

Sheet adat
A1: 2027 | C1: Előkészítettsége | E1: MAGYARÁZAT | G1: A beruházási feladat kategóriája - IVÓVÍZ | M1: NV Zrt. FŐCSOPORTOK | U1: A kitöltés lehetséges eredménye, az "ELLENÖRZÉS" oszlopban jelenik meg | W1: Színkód | Z1: A kitöltés lehetséges eredménye, az "ELLENÖRZÉS" oszlopban jelenik meg (Osszesito lap) | AB1: Színkód | AC1: Színkód
C2: a) | D2: Megvalósíthatósági Tanulmánnyal rendelkezik | E2: Jogszabály által meghatározott kategória. | G2: Sorszám | H2: KATEGÓRIA | I2: 1. SZINT | J2: 2. SZINT | K2: 3. SZINT | L2: PÉLDÁK | P2: Kategóriák | Q2: Magyarázat | U2: =IF($AB2="","",COUNTA(V$2:$AB2)) | V2: Nincs VKR kiválasztva! | Z2: =IF($AG2="","",COUNTA(AA$2:$AG2)) | AA2: Nincs rögzítve!
C3: b) | D3: Kiviteli tervvel, engedélyes tervvel vagy ezeknek megfeleltethető tervvel rendelkezik | E3: Jogszabály által meghatározott kategória. | G3: 1 | H3: 1111_TERM_KÚT | I3: víztermelés | J3: kutak | L3: kúthoz kapcsolódó beruházási feladatok (pl.: új kút fúrása (melléfúrásos felújítás esetén az új kút műszaki paraméterei eltérnek a kiváltandó kút műszaki paramétereitől), kút eltömedékelés, NV Zrt. által javasolt 121. főcsoport) | M3: 121 | P3: Használati díj | Q3: Ide értendő: - az előző évek használati díj maradványa - önkormányzattól átvett fel nem használt használati díj - a víziközmű alap (Vksztv. 2. § 33.pont) - Vksztv. értelmező rendelkezéséhez egyezően bérleti díj, vagyonkezelési díj vagy koncessziós díj | U3: =IF($AB3="","",COUNTA(V$2:$AB3)) | Z3: =IF($AG3="","",COUNTA(AA$2:$AG3)) | AA3: Kitöltési hiba!
C4: c) | D4: Nincs előkészítve | E4: Jogszabály által meghatározott kategória. | G4: 2 | H4: 1121_TERM_VEZETÉK | J4: vezeték | L4: a víztermelés vezetékeihez kapcsolódó beruházási feladatok (pl.: új kútbekötés, gyűjtővezeték létesítése) | P4: ÉCS | Q4: - értékcsökkenési leírás | U4: =IF($AB4="","",COUNTA(V$2:$AB4)) | V4: Hiányos kitöltés! („?”-oszlop üres) | Z4: =IF($AG4="","",COUNTA(AA$2:$AG4)) | AA4: Hiányzik a rövidtávú terv!
C5: d) | D5: Nem szükséges | E5: Nem a jogszabály által meghatározott kategória. | G5: 3 | H5: 1131_TERM_SZIVATTYÚ | J5: szivattyú | L5: a víztermelés szivattyúihoz kapcsolódó beruházási feladatok (pl.: új kútszivattyú beszerzése) | P5: Közműfejlesztési hozzájárulás | U5: =IF($AB5="","",COUNTA(V$2:$AB5)) | V5: I. ütem forrása nincs kitöltve! | Z5: =IF($AG5="","",COUNTA(AA$2:$AG5)) | AA5: Hiányzik a hosszútávú terv!
G6: 4 | H6: 1110_TERM_EGYÉB | J6: egyéb | L6: a víztermeléshez kapcsolódó, egyéb, a fenti kategóriákba nem besorolható beruházási feladatok (pl.: új termelőcső létesítése) | P6: Egyéb saját forrás | Q6: - Társasági eszköz hasznosításból/értékesítésből származó bevétel/vissznyeremény | U6: =IF($AB6="","",COUNTA(V$2:$AB6)) | V6: II. ütem forrása nincs kitöltve! | Z6: =IF($AG6="","",COUNTA(AA$2:$AG6)) | AA6: Kitöltés rendben!
G7: 4 | H7: 1100_TERM_KOMPLEX | J7: komplex | L7: a víztermeléshez kapcsolódó komplex beruházási feladatok (pl.: új kút fúrása, bekötése, kútszivattyú beszerelése, villamos és irányítástechnikai rendszer kialakítás, integrálás a meglévő rendszerbe munkákból többféle feladatot együttesen tartalmazó beruházás) | P7: VFEA 2. melléklet | Q7: - Víziközmű-fejlesztési és Ellentételezési Alap - 24/2023. (XII. 13.) EM rendelet 2. melléklet | U7: =IF($AB7="","",COUNTA(V$2:$AB7)) | V7: Költségek üteme nem megfelelő (az időtartam és a költség üteme eltér)!
G8: 6 | H8: 1211_TELEP_TÁROLÁS | I8: vízműtelep / vízkezelés | J8: vízműtelepi tárolás | L8: a vízműtelep területén található víztároló műtárgyakhoz kapcsolódó beruházási feladatok (pl.: új vízműtelepi medence, víztorony, tározó, tároló létesítése, meglévő műtárgy bővítése, NV Zrt. által javasolt 123. főcsoport vízműtelepi tárolómedence esetén) | M8: 123 | P8: Állami támogatás | Q8: - központi kezelésű előirányzat - egyéb állami támogatás - egyéb központi költségvetés | U8: =IF($AB8="","",COUNTA(V$2:$AB8)) | V8: Kötelező cellák kitöltve, de az I.ütem forrása hibás!
G9: 7 | H9: 1221_TELEP_VEZETÉK | J9: vezeték | L9: a vízműtelep területén található vízszállító vezetékekhez kapcsolódó beruházási feladatok (pl.: vízkezelési technológiához tartozó tisztavíztározó medencék udvartéri vezetékeinek kapacitásbővítése) | P9: Önkormányzati támogatás | Q9: - bármilyen önkormányzati forrás | U9: =IF($AB9="","",COUNTA(V$2:$AB9)) | V9: Kötelező cellák kitöltve, de a II. ütem forrása hibás!
G10: 8 | H10: 1231_TELEP_SZIVATTYÚ | J10: szivattyú | L10: a vízműtelepen található nyomásfokozó szivattyúval kapcsolatos beruházási feladatok (pl.: új szivattyú beszerzése, meglévő szivattyú cseréje nagyobb kapacitásúra) | P10: EU-s támogatás | U10: =IF($AB10="","",COUNTA(V$2:$AB10)) | V10: Nullás a rövidtávú feladat és rövid (hiányzik) a hozzá tartozó indoklás!
G11: 9 | H11: 1241_TELEP_TECHN | J11: víztisztítási technológia | L11: a víztisztítási technológiához kapcsolódó beruházási feladatok (pl.: új víztisztítási technológia kialakítása, klórozó létesítése, vas- mangántalanító kapacitásbővítése, NV Zrt. által javasolt 125. főcsoport) | M11: 125 | P11: Egyéb támogatás | Q11: - egyéb külső forrás - egyéb nemzetközi hátterű támogatás - egyéb/Fejlesztési célú pénzeszköz átadás - állami/önkormányzati eszköz hasznosításból/értékesítésből szárm. bevétel/vissznyeremény - ESCO típusú finanszírozás | U11: =IF($AB11="","",COUNTA(V$2:$AB11)) | V11: Nullás a hosszútávú feladat és rövid (hiányzik) a hozzá tartozó indoklás!";
G12: 10 | H12: 1251_TELEP_ÉPÍTÉSZET | J12: építészet | L12: a vízműtelephez kapcsolódó építészeti beruházás (pl.: új épület építése) | P12: Banki hitel, kötvénykibocsátás | U12: =IF($AB12="","",COUNTA(V$2:$AB12)) | V12: II. ütemre nem tervezhet Rendkívüli feladatot!
G13: 11 | H13: 1210_TELEP_EGYÉB | J13: egyéb | L13: a vízműtelep területéhez kapcsolódó, egyéb, a fenti kategóriákba nem besorolható beruházási feladatok (pl.: térvilágítás kiépítése) | U13: =IF($AB13="","",COUNTA(V$2:$AB13)) | V13: EM rendelet 2. melléklet terhére elszámolt költség nem lehet nagyobb az I. ütemre tervezett tényleges költségnél!";
G14: 12 | H14: 1200_TELEP_KOMPLEX | J14: komplex | L14: a vízműtelephez kapcsolódó komplex beruházási feladatok (pl.: gépház teljeskörű kivitelezése) | U14: =IF($AB14="","",COUNTA(V$2:$AB14)) | V14: Többlet forrást jelölt meg az I. ütemnél! Kérjük, a többletet az 'Osszesito' fülön tüntesse fel!
G15: 13 | H15: 1311_ELOSZT_VEZETÉK_TÁV | I15: vízelosztás | J15: vezeték | K15: távvezeték | L15: regionális vezetékkel, távvezetékkel kapcsolatos beruházási feladatok (pl.: távvezeték kapacitásbővítése) | U15: =IF($AB15="","",COUNTA(V$2:$AB15)) | V15: Többlet forrást jelölt meg a II. ütemnél! Kérjük, a többletet az 'Osszesito' fülön tüntesse
G16: 14 | H16: 1312_ELOSZT_VEZETÉK_GERINC | K16: gerincvezeték | L16: gerincvezetékkel kapcsolatos beruházási feladatok (pl.: új gerincvezeték létesítése, hálózatbővítés) | U16: =IF($AB16="","",COUNTA(V$2:$AB16)) | V16: Kitöltés rendben!
G17: 15 | H17: 1313_ELOSZT_VEZETÉK_BEKÖTŐ | K17: bekötővezeték | L17: bekötővezetékkel kapcsolatos beruházási feladatok (pl.: új bekötővezetékek létesítése, NV Zrt. által javasolt 113. főcsoport) | M17: 113
G18: 16 | H18: 1321_ELOSZT_TÁROLÁS | J18: hálózati tárolás | L18: az elosztóhálózaton található víztároló műtárgyakhoz kapcsolódó beruházási feladatok (pl.: új hálózati medence, víztorony, tározó, tároló létesítése)
G19: 17 | H19: 1331_ELOSZT_SZIVATTYÚ | J19: szivattyú | L19: az elosztóhálózaton található szivattyúval kapcsolatos beruházási feladatok (pl.: új szivattyú beszerzése, meglévő szivattyú cseréje nagyobb kapacitásúra)
G20: 18 | H20: 1341_ELOSZT_SZERELV_CSOMÓPONT | J20: akna/szerelvények | K20: csomópont | L20: az elosztóhálózaton található csomópontokhoz kapcsolódó általános beruházási feladatok (pl.: új csomópont létesítése) (Amennyiben tervezéskor nem ismert, hogy a feladat a "vízelosztás-akna/szerelvények" mely kategóriájába sorolható, vagy a feladat egyszerre több "vízelosztás-akna/szerelvények" kategóriába is sorolható, akkor a feladatot itt szükséges szerepeltetni.)
G21: 19 | H21: 1342_ELOSZT_SZERELV_TŰZCSAP | K21: tűzcsap | L21: az elosztóhálózaton található tűzcsaphoz kapcsolódó beruházási feladatok (pl.: új tűzcsap létesítése, föld alatti tűzcsap cseréje föld felettire)
G22: 20 | H22: 1343_ELOSZT_SZERELV_TOLÓZÁR | K22: tolózár | L22: az elosztóhálózaton található tolózárakhoz kapcsolódó beruházási feladatok (pl.: új tolózár létesítése)
G23: 21 | H23: 1344_ELOSZT_SZERELV_KÖZKIFOLYÓ | K23: közkifolyó | L23: az elosztóhálózaton található közkifolyóhoz kapcsolódó beruházási feladatok (pl.: új közkifolyó létesítése)
G24: 22 | H24: 1345_ELOSZT_SZERELV_VÍZMÉRŐ | K24: vízmérő | L24: az elosztóhálózaton található vízmérőhöz kapcsolódó beruházási feladatok (pl.: új vízmérő létesítése, NV Zrt. által javasolt 114. főcsoport) | M24: 114
G25: 23 | H25: 1346_ELOSZT_SZERELV_NYOMCSÖK | K25: nyomáscsökkentő | L25: az elosztóhálózaton található nyomáscsökkentőhöz kapcsolódó beruházási feladatok (pl.: új nyomáscsökkentő létesítése)
G26: 24 | H26: 1347_ELOSZT_SZERELV_AKNA | K26: akna építészet | L26: az elosztóhálózaton található aknákhoz kapcsolódó építészeti jellegű beruházási feladatok (pl.: korábban nem vízzáró akna vízzáróvá tétele)
G27: 25 | H27: 1310_ELOSZT_EGYÉB | J27: egyéb | L27: az elosztóhálózathoz kapcsolódó, egyéb, a fenti kategóriákba nem besorolható beruházási feladatok
G28: 26 | H28: 1300_ELOSZT_KOMPLEX | J28: komplex | L28: az elosztóhálózathoz kapcsolódó komplex beruházási feladatok (pl.: egy adott utcára vonatkozó új vízhálózat teljeskörű kivitelezése)
G29: 27 | H29: 1411_NAPELEM | I29: napelem | L29: napelem létesítése (NV Zrt. által javasolt 129. főcsoport) | M29: 129
G30: 28 | H30: 1511_VILL_IRÁNYTECH | I30: villamos- és irányítástechnika | L30: villamos- és irányítástechnikai beruházási feladatok, folyamatirányító rendszer kialakítása (pl.: új vezérlőszekrény létesítése, NV Zrt. által javasolt 126. és 128. főcsoport) | M30: 126 | N30: 128
G31: 29 | H31: 1611_EGYÉB | I31: egyéb | L31: az ivóvízellátáshoz kapcsolódó, egyéb, a fenti kategóriákba nem besorolható beruházási feladatok (pl.: biztonságtechnika, vagyonvédelem, ingatlan-nyilvántartás, tervezés, engedélyeztetés, NV Zrt. által javasolt 124. főcsoport) | M31: 124
G32: 30 | H32: 1711_NINCS_FELADAT | I32: nincs feladat | L32: Az adott ütemben nem kerül feladat betervezésre, melynek indokolása a "MEGJEGYZÉS" című (AR) mezőben szükséges.

Sheet Kitöltési útmutató

Sheet Megjegyzés
A2: Megjegyzés
A3: .
